{
 "currentVersion": 10.91,
 "serviceDescription": "",
 "mapName": "Layers",
 "description": "",
 "copyrightText": "",
 "supportsDynamicLayers": true,
 "layers": [
  {
   "id": 0,
   "name": "2m",
   "parentLayerId": -1,
   "defaultVisibility": true,
   "subLayerIds": null,
   "minScale": 10000,
   "maxScale": 0,
   "type": "Raster Catalog Layer",
   "geometryType": "esriGeometryPolygon"
  },
  {
   "id": 1,
   "name": "4m",
   "parentLayerId": -1,
   "defaultVisibility": true,
   "subLayerIds": null,
   "minScale": 24000,
   "maxScale": 10001,
   "type": "Raster Catalog Layer",
   "geometryType": "esriGeometryPolygon"
  },
  {
   "id": 2,
   "name": "10m",
   "parentLayerId": -1,
   "defaultVisibility": true,
   "subLayerIds": null,
   "minScale": 40000,
   "maxScale": 24001,
   "type": "Raster Catalog Layer",
   "geometryType": "esriGeometryPolygon"
  },
  {
   "id": 3,
   "name": "20m",
   "parentLayerId": -1,
   "defaultVisibility": true,
   "subLayerIds": null,
   "minScale": 100000,
   "maxScale": 40001,
   "type": "Raster Catalog Layer",
   "geometryType": "esriGeometryPolygon"
  },
  {
   "id": 4,
   "name": "40m",
   "parentLayerId": -1,
   "defaultVisibility": true,
   "subLayerIds": null,
   "minScale": 250000,
   "maxScale": 100001,
   "type": "Raster Catalog Layer",
   "geometryType": "esriGeometryPolygon"
  },
  {
   "id": 5,
   "name": "80m",
   "parentLayerId": -1,
   "defaultVisibility": true,
   "subLayerIds": null,
   "minScale": 400000,
   "maxScale": 250001,
   "type": "Raster Catalog Layer",
   "geometryType": "esriGeometryPolygon"
  },
  {
   "id": 6,
   "name": "120m",
   "parentLayerId": -1,
   "defaultVisibility": true,
   "subLayerIds": null,
   "minScale": 500000,
   "maxScale": 400001,
   "type": "Raster Catalog Layer",
   "geometryType": "esriGeometryPolygon"
  },
  {
   "id": 7,
   "name": "160m",
   "parentLayerId": -1,
   "defaultVisibility": true,
   "subLayerIds": null,
   "minScale": 1000000,
   "maxScale": 500001,
   "type": "Raster Catalog Layer",
   "geometryType": "esriGeometryPolygon"
  },
  {
   "id": 8,
   "name": "300m",
   "parentLayerId": -1,
   "defaultVisibility": true,
   "subLayerIds": null,
   "minScale": 2000000,
   "maxScale": 1000001,
   "type": "Raster Catalog Layer",
   "geometryType": "esriGeometryPolygon"
  },
  {
   "id": 9,
   "name": "1000m",
   "parentLayerId": -1,
   "defaultVisibility": true,
   "subLayerIds": null,
   "minScale": 7000001,
   "maxScale": 1200001,
   "type": "Raster Layer"
  }
 ],
 "tables": [],
 "spatialReference": {
  "wkid": 102139,
  "latestWkid": 3067
 },
 "singleFusedMapCache": true,
 "tileInfo": {
  "rows": 256,
  "cols": 256,
  "dpi": 96,
  "format": "PNG",
  "compressionQuality": 0,
  "origin": {
   "x": -5410720.698408985,
   "y": 1.0395798755584717E7
  },
  "spatialReference": {
   "wkid": 102139,
   "latestWkid": 3067
  },
  "lods": [
   {
    "level": 0,
    "resolution": 1852.0870375074085,
    "scale": 7000000
   },
   {
    "level": 1,
    "resolution": 1000.0013229193125,
    "scale": 3779525
   },
   {
    "level": 2,
    "resolution": 300.000529167725,
    "scale": 1133858
   },
   {
    "level": 3,
    "resolution": 160.00021166709,
    "scale": 604724
   },
   {
    "level": 4,
    "resolution": 120.00015875031751,
    "scale": 453543
   },
   {
    "level": 5,
    "resolution": 80.000105833545,
    "scale": 302362
   },
   {
    "level": 6,
    "resolution": 40.0000529167725,
    "scale": 151181
   },
   {
    "level": 7,
    "resolution": 20.000158750317503,
    "scale": 75591
   },
   {
    "level": 8,
    "resolution": 9.9999470832275,
    "scale": 37795
   },
   {
    "level": 9,
    "resolution": 6.999830666328,
    "scale": 26456
   },
   {
    "level": 10,
    "resolution": 3.9999788332910002,
    "scale": 15118
   },
   {
    "level": 11,
    "resolution": 1.9999894166455001,
    "scale": 7559
   },
   {
    "level": 12,
    "resolution": 1.0001270002540006,
    "scale": 3780
   }
  ]
 },
 "initialExtent": {
  "xmin": -342502.8147657589,
  "ymin": 6958710.908909386,
  "xmax": 1111385.5096775568,
  "ymax": 8023660.955476146,
  "spatialReference": {
   "wkid": 102139,
   "latestWkid": 3067
  }
 },
 "fullExtent": {
  "xmin": -2956000,
  "ymin": 2826000,
  "xmax": 1844000,
  "ymax": 9066000,
  "spatialReference": {
   "wkid": 102139,
   "latestWkid": 3067
  }
 },
 "minScale": 7000000,
 "maxScale": 3780,
 "minLOD": 0,
 "maxLOD": 12,
 "units": "esriMeters",
 "supportedImageFormatTypes": "PNG32,PNG24,PNG,JPG,DIB,TIFF,EMF,PS,PDF,GIF,SVG,SVGZ,BMP",
 "documentInfo": {
  "Title": "",
  "Author": "",
  "Comments": "",
  "Subject": "",
  "Category": "",
  "AntialiasingMode": "None",
  "TextAntialiasingMode": "Force",
  "Keywords": ""
 },
 "capabilities": "Map,Query,Data",
 "supportedQueryFormats": "JSON, geoJSON",
 "exportTilesAllowed": false,
 "referenceScale": 0,
 "supportsDatumTransformation": true,
 "maxRecordCount": 1000,
 "maxImageHeight": 4096,
 "maxImageWidth": 4096,
 "supportedExtensions": "KmlServer"
}
